BEGIN:VCALENDAR
VERSION:2.0
PRODID:-//Festival &amp; Event Management | FestivalManagers.com - ECPv6.15.20//NONSGML v1.0//EN
CALSCALE:GREGORIAN
METHOD:PUBLISH
X-WR-CALNAME:Festival &amp; Event Management | FestivalManagers.com
X-ORIGINAL-URL:https://festivalmanagers.com
X-WR-CALDESC:Events for Festival &amp; Event Management | FestivalManagers.com
REFRESH-INTERVAL;VALUE=DURATION:PT1H
X-Robots-Tag:noindex
X-PUBLISHED-TTL:PT1H
BEGIN:VTIMEZONE
TZID:America/Toronto
BEGIN:DAYLIGHT
TZOFFSETFROM:-0500
TZOFFSETTO:-0400
TZNAME:EDT
DTSTART:20190310T070000
END:DAYLIGHT
BEGIN:STANDARD
TZOFFSETFROM:-0400
TZOFFSETTO:-0500
TZNAME:EST
DTSTART:20191103T060000
END:STANDARD
BEGIN:DAYLIGHT
TZOFFSETFROM:-0500
TZOFFSETTO:-0400
TZNAME:EDT
DTSTART:20200308T070000
END:DAYLIGHT
BEGIN:STANDARD
TZOFFSETFROM:-0400
TZOFFSETTO:-0500
TZNAME:EST
DTSTART:20201101T060000
END:STANDARD
BEGIN:DAYLIGHT
TZOFFSETFROM:-0500
TZOFFSETTO:-0400
TZNAME:EDT
DTSTART:20210314T070000
END:DAYLIGHT
BEGIN:STANDARD
TZOFFSETFROM:-0400
TZOFFSETTO:-0500
TZNAME:EST
DTSTART:20211107T060000
END:STANDARD
END:VTIMEZONE
BEGIN:VEVENT
DTSTART;TZID=America/Toronto:20201007T100000
DTEND;TZID=America/Toronto:20201008T163000
DTSTAMP:20260422T150824
CREATED:20200513T130803Z
LAST-MODIFIED:20200616T154818Z
UID:10000004-1602064800-1602174600@festivalmanagers.com
SUMMARY:Mississauga Festival and Events Management Masterclass - 2 Day
DESCRIPTION:The Festival and Event Management Masterclass is making a first visit to Missisauga on 7 & 8 October. Our popular 2 day programme is designed to inform and inspire anyone involved in creating\, managing and developing festivals and events. It is a highly practical course full of ideas and examples that participants can put into practice immediately to improve their events. It features sessions on key tasks and challenges for those involved in festivals and events both large and small including Marketing\, Press\, Programming\, Evaluation\, Sponsorship and Fundraising.  We have also added a new section to cover how events can survive and thrive the Covid-19 pandemic. You can find more details about the course content and the presenter at the About the Masterclass section of this site. \nThe Masterclass has run successfully in 20 countries worldwide including Australia\, Canada\, Sweden\, Norway\, Denmark\, Belgium\, Singapore\, Hong Kong\, USA\, Ireland and Canada. Details of the organisations that have taken the Masterclass can be found in Who Has Attended section.  We have received a great response to the Masterclass you can find comments from previous participants in our Feedback section. \nWe have run the course successfully in Canada on a number of occasions. Organisations that have attended include: Vancouver Fringe\, Calgary High Performance Rodeo\, Banff Centre\, Sturgeon County\, Vancouver Pride\, City of Red Deer\, City of Edmonton\, Tourism Kelowna\, Alberta Beer Festivals\, Rapid Fire Theatre\, Winspear Centre\, Flin Flon Arts Council\, Edmonton Jazz Festival\, Exposure Photography Festival\, Edmonton Frnge\, Town of Stony Plain\, Airdrie Festival of Lights\, Tourism Medicine Hat\, Calgary Stampede\, Mount Royal University\, City of St. Albert\, Sled Island Music and Arts Festival\, Vancouver International Wine Festival\, Arts Council Ontario\, Economic Development Regina\, Saskatchewan Festival of Words\, Bard on the Beach and many more. \nIf you  have any questions about the Masterclass\, use the Contact Us button to send us an email. \nFRINGE WORLD Festival 2020. A Simple Space
URL:https://festivalmanagers.com/event/mississauga-festival-and-events-management-masterclass-2-day/
LOCATION:West Edge Community Church\, 157 Lakeshore Rd W\, 157 Lakeshore Rd W\, Ontario\, L5H 1G3\, Canada
ORGANIZER;CN="Paul Gudgin Festival and Event Management":MAILTO:info@festivalmanagers.com
END:VEVENT
END:VCALENDAR